BEGIN:VCALENDAR
PRODID:-//AT Content Types//AT Event//EN
VERSION:2.0
METHOD:PUBLISH
BEGIN:VEVENT
DTSTAMP:20260420T012127Z
CREATED:20100420T135131Z
UID:ATEvent-20b1f50fbe3760d513f3934abfec5467
LAST-MODIFIED:20100420T135138Z
SUMMARY:H22年度新歓コンパ
DTSTART:20100512T093000Z
DTEND:20100512T120000Z
DESCRIPTION:新しい4回生を迎えて、ﾌｨｰﾙﾄﾞﾛﾎﾞ
 ﾃｨｸｽ研究室の新歓コンパ
LOCATION:計画中
CATEGORIES:宴会
CLASS:PUBLIC
END:VEVENT
END:VCALENDAR
