BEGIN:VCALENDAR
PRODID:-//AT Content Types//AT Event//EN
VERSION:1.0
BEGIN:VEVENT
DTSTART:20101205T150000Z
DTEND:20101208T145500Z
DCREATED:20091208T162739Z
UID:ATEvent-cdb88965cbcf243f7fb67b669614d79e
SEQUENCE:0
LAST-MODIFIED:20100414T044350Z
SUMMARY:AGRICONTROL 2010
DESCRIPTION:Agricontrol 2010 Kyoto\, sponsored by IFAC
LOCATION:Kyoto University Clock Tower
PRIORITY:3
TRANSP:0
END:VEVENT
END:VCALENDAR
