BEGIN:VCALENDAR
PRODID:-//AT Content Types//AT Event//EN
VERSION:2.0
METHOD:PUBLISH
BEGIN:VEVENT
DTSTAMP:20260420T025635Z
CREATED:20090413T162200Z
UID:ATEvent-f9b62456c6a59f6fab58f26ad3c56ca7
LAST-MODIFIED:20090414T044230Z
SUMMARY:梅田幹雄教授定年退職
DTSTART:20090331T145500Z
DTEND:20090331T145500Z
LOCATION:S260
CLASS:PUBLIC
END:VEVENT
END:VCALENDAR
