BEGIN:VCALENDAR
PRODID:-//AT Content Types//AT Event//EN
VERSION:1.0
BEGIN:VEVENT
DTSTART:20100224T090000Z
DTEND:20100224T123000Z
DCREATED:20100214T023319Z
UID:ATEvent-c7a913888e87e280586c4399fba0e3e4
SEQUENCE:0
LAST-MODIFIED:20100214T023322Z
SUMMARY:平成21年度　追コン
DESCRIPTION:平成21年度　フィールドロボティクス研究
 　追い出しコンパ開催
LOCATION:未定
PRIORITY:3
TRANSP:0
END:VEVENT
END:VCALENDAR
