BEGIN:VCALENDAR
PRODID:-//AT Content Types//AT Event//EN
VERSION:2.0
METHOD:PUBLISH
BEGIN:VEVENT
DTSTAMP:20260420T012153Z
CREATED:20090415T031639Z
UID:ATEvent-96493a2646fa524be898974d667572d1
LAST-MODIFIED:20090415T040159Z
SUMMARY:平成20年度学部卒業式
DTSTART:20090324T023000Z
DTEND:20090324T031000Z
DESCRIPTION:石川君、小野山君、川辺君、菊君、冨田君
 富山君卒業
CLASS:PUBLIC
END:VEVENT
END:VCALENDAR
